BEGIN:VCALENDAR
VERSION:2.0
PRODID:-//Mayflower Hills Baptist Church - ECPv6.15.20//NONSGML v1.0//EN
CALSCALE:GREGORIAN
METHOD:PUBLISH
X-WR-CALNAME:Mayflower Hills Baptist Church
X-ORIGINAL-URL:https://mayflowerbaptist.com
X-WR-CALDESC:Events for Mayflower Hills Baptist Church
REFRESH-INTERVAL;VALUE=DURATION:PT1H
X-Robots-Tag:noindex
X-PUBLISHED-TTL:PT1H
BEGIN:VTIMEZONE
TZID:America/New_York
BEGIN:DAYLIGHT
TZOFFSETFROM:-0500
TZOFFSETTO:-0400
TZNAME:EDT
DTSTART:20250309T070000
END:DAYLIGHT
BEGIN:STANDARD
TZOFFSETFROM:-0400
TZOFFSETTO:-0500
TZNAME:EST
DTSTART:20251102T060000
END:STANDARD
BEGIN:DAYLIGHT
TZOFFSETFROM:-0500
TZOFFSETTO:-0400
TZNAME:EDT
DTSTART:20260308T070000
END:DAYLIGHT
BEGIN:STANDARD
TZOFFSETFROM:-0400
TZOFFSETTO:-0500
TZNAME:EST
DTSTART:20261101T060000
END:STANDARD
BEGIN:DAYLIGHT
TZOFFSETFROM:-0500
TZOFFSETTO:-0400
TZNAME:EDT
DTSTART:20270314T070000
END:DAYLIGHT
BEGIN:STANDARD
TZOFFSETFROM:-0400
TZOFFSETTO:-0500
TZNAME:EST
DTSTART:20271107T060000
END:STANDARD
END:VTIMEZONE
BEGIN:VEVENT
DTSTART;TZID=America/New_York:20260916T190000
DTEND;TZID=America/New_York:20260916T200000
DTSTAMP:20260423T095101
CREATED:20260325T194612Z
LAST-MODIFIED:20260325T200231Z
UID:533-1789585200-1789588800@mayflowerbaptist.com
SUMMARY:Prayer Service
DESCRIPTION:On this evening every week\, we gather together and come before the throne of grace in the name of Jesus Christ\, the Son of God\, who makes perfect intercession for us in our prayers to God the Father. We trust the promise of God’s help through the Holy Spirit who helps us in our requests and offerings of praise and thanksgiving. \nWe want to pray for you. If you have a need you would like us to pray for\, feel free to join us at our weekly prayer service or reach out to us on social media with your request. \n\n“Rejoice always\, pray continually\, give thanks in all circumstances; for this is God’s will for you in Christ Jesus.”–1 Thessalonians 5:16-18
URL:https://mayflowerbaptist.com/event/prayer-service-9-16-26/
LOCATION:Mayflower Hills Baptist Church\, 3852 Rutrough Road SE\, Roanoke\, VA\, 24014\, United States
CATEGORIES:Prayer Service
ATTACH;FMTTYPE=image/jpeg:https://mayflowerbaptist.com/wp-content/uploads/2026/03/prayer-meeting.jpg
END:VEVENT
BEGIN:VEVENT
DTSTART;TZID=America/New_York:20260923T190000
DTEND;TZID=America/New_York:20260923T200000
DTSTAMP:20260423T095101
CREATED:20260325T194614Z
LAST-MODIFIED:20260325T200233Z
UID:534-1790190000-1790193600@mayflowerbaptist.com
SUMMARY:Prayer Service
DESCRIPTION:On this evening every week\, we gather together and come before the throne of grace in the name of Jesus Christ\, the Son of God\, who makes perfect intercession for us in our prayers to God the Father. We trust the promise of God’s help through the Holy Spirit who helps us in our requests and offerings of praise and thanksgiving. \nWe want to pray for you. If you have a need you would like us to pray for\, feel free to join us at our weekly prayer service or reach out to us on social media with your request. \n\n“Rejoice always\, pray continually\, give thanks in all circumstances; for this is God’s will for you in Christ Jesus.”–1 Thessalonians 5:16-18
URL:https://mayflowerbaptist.com/event/prayer-service-9-23-26/
LOCATION:Mayflower Hills Baptist Church\, 3852 Rutrough Road SE\, Roanoke\, VA\, 24014\, United States
CATEGORIES:Prayer Service
ATTACH;FMTTYPE=image/jpeg:https://mayflowerbaptist.com/wp-content/uploads/2026/03/prayer-meeting.jpg
END:VEVENT
BEGIN:VEVENT
DTSTART;TZID=America/New_York:20260930T190000
DTEND;TZID=America/New_York:20260930T200000
DTSTAMP:20260423T095101
CREATED:20260325T194616Z
LAST-MODIFIED:20260325T200234Z
UID:535-1790794800-1790798400@mayflowerbaptist.com
SUMMARY:Prayer Service
DESCRIPTION:On this evening every week\, we gather together and come before the throne of grace in the name of Jesus Christ\, the Son of God\, who makes perfect intercession for us in our prayers to God the Father. We trust the promise of God’s help through the Holy Spirit who helps us in our requests and offerings of praise and thanksgiving. \nWe want to pray for you. If you have a need you would like us to pray for\, feel free to join us at our weekly prayer service or reach out to us on social media with your request. \n\n“Rejoice always\, pray continually\, give thanks in all circumstances; for this is God’s will for you in Christ Jesus.”–1 Thessalonians 5:16-18
URL:https://mayflowerbaptist.com/event/prayer-service-9-30-26/
LOCATION:Mayflower Hills Baptist Church\, 3852 Rutrough Road SE\, Roanoke\, VA\, 24014\, United States
CATEGORIES:Prayer Service
ATTACH;FMTTYPE=image/jpeg:https://mayflowerbaptist.com/wp-content/uploads/2026/03/prayer-meeting.jpg
END:VEVENT
BEGIN:VEVENT
DTSTART;TZID=America/New_York:20261007T190000
DTEND;TZID=America/New_York:20261007T200000
DTSTAMP:20260423T095101
CREATED:20260325T194618Z
LAST-MODIFIED:20260325T200235Z
UID:536-1791399600-1791403200@mayflowerbaptist.com
SUMMARY:Prayer Service
DESCRIPTION:On this evening every week\, we gather together and come before the throne of grace in the name of Jesus Christ\, the Son of God\, who makes perfect intercession for us in our prayers to God the Father. We trust the promise of God’s help through the Holy Spirit who helps us in our requests and offerings of praise and thanksgiving. \nWe want to pray for you. If you have a need you would like us to pray for\, feel free to join us at our weekly prayer service or reach out to us on social media with your request. \n\n“Rejoice always\, pray continually\, give thanks in all circumstances; for this is God’s will for you in Christ Jesus.”–1 Thessalonians 5:16-18
URL:https://mayflowerbaptist.com/event/prayer-service-10-7-26/
LOCATION:Mayflower Hills Baptist Church\, 3852 Rutrough Road SE\, Roanoke\, VA\, 24014\, United States
CATEGORIES:Prayer Service
ATTACH;FMTTYPE=image/jpeg:https://mayflowerbaptist.com/wp-content/uploads/2026/03/prayer-meeting.jpg
END:VEVENT
BEGIN:VEVENT
DTSTART;TZID=America/New_York:20261014T190000
DTEND;TZID=America/New_York:20261014T200000
DTSTAMP:20260423T095101
CREATED:20260325T194619Z
LAST-MODIFIED:20260325T200236Z
UID:537-1792004400-1792008000@mayflowerbaptist.com
SUMMARY:Prayer Service
DESCRIPTION:On this evening every week\, we gather together and come before the throne of grace in the name of Jesus Christ\, the Son of God\, who makes perfect intercession for us in our prayers to God the Father. We trust the promise of God’s help through the Holy Spirit who helps us in our requests and offerings of praise and thanksgiving. \nWe want to pray for you. If you have a need you would like us to pray for\, feel free to join us at our weekly prayer service or reach out to us on social media with your request. \n\n“Rejoice always\, pray continually\, give thanks in all circumstances; for this is God’s will for you in Christ Jesus.”–1 Thessalonians 5:16-18
URL:https://mayflowerbaptist.com/event/prayer-service-10-14-26/
LOCATION:Mayflower Hills Baptist Church\, 3852 Rutrough Road SE\, Roanoke\, VA\, 24014\, United States
CATEGORIES:Prayer Service
ATTACH;FMTTYPE=image/jpeg:https://mayflowerbaptist.com/wp-content/uploads/2026/03/prayer-meeting.jpg
END:VEVENT
BEGIN:VEVENT
DTSTART;TZID=America/New_York:20261021T190000
DTEND;TZID=America/New_York:20261021T200000
DTSTAMP:20260423T095101
CREATED:20260325T194621Z
LAST-MODIFIED:20260325T200237Z
UID:538-1792609200-1792612800@mayflowerbaptist.com
SUMMARY:Prayer Service
DESCRIPTION:On this evening every week\, we gather together and come before the throne of grace in the name of Jesus Christ\, the Son of God\, who makes perfect intercession for us in our prayers to God the Father. We trust the promise of God’s help through the Holy Spirit who helps us in our requests and offerings of praise and thanksgiving. \nWe want to pray for you. If you have a need you would like us to pray for\, feel free to join us at our weekly prayer service or reach out to us on social media with your request. \n\n“Rejoice always\, pray continually\, give thanks in all circumstances; for this is God’s will for you in Christ Jesus.”–1 Thessalonians 5:16-18
URL:https://mayflowerbaptist.com/event/prayer-service-10-21-26/
LOCATION:Mayflower Hills Baptist Church\, 3852 Rutrough Road SE\, Roanoke\, VA\, 24014\, United States
CATEGORIES:Prayer Service
ATTACH;FMTTYPE=image/jpeg:https://mayflowerbaptist.com/wp-content/uploads/2026/03/prayer-meeting.jpg
END:VEVENT
BEGIN:VEVENT
DTSTART;TZID=America/New_York:20261028T190000
DTEND;TZID=America/New_York:20261028T200000
DTSTAMP:20260423T095101
CREATED:20260325T194623Z
LAST-MODIFIED:20260325T200238Z
UID:539-1793214000-1793217600@mayflowerbaptist.com
SUMMARY:Prayer Service
DESCRIPTION:On this evening every week\, we gather together and come before the throne of grace in the name of Jesus Christ\, the Son of God\, who makes perfect intercession for us in our prayers to God the Father. We trust the promise of God’s help through the Holy Spirit who helps us in our requests and offerings of praise and thanksgiving. \nWe want to pray for you. If you have a need you would like us to pray for\, feel free to join us at our weekly prayer service or reach out to us on social media with your request. \n\n“Rejoice always\, pray continually\, give thanks in all circumstances; for this is God’s will for you in Christ Jesus.”–1 Thessalonians 5:16-18
URL:https://mayflowerbaptist.com/event/prayer-service-10-28-26/
LOCATION:Mayflower Hills Baptist Church\, 3852 Rutrough Road SE\, Roanoke\, VA\, 24014\, United States
CATEGORIES:Prayer Service
ATTACH;FMTTYPE=image/jpeg:https://mayflowerbaptist.com/wp-content/uploads/2026/03/prayer-meeting.jpg
END:VEVENT
BEGIN:VEVENT
DTSTART;TZID=America/New_York:20261104T190000
DTEND;TZID=America/New_York:20261104T200000
DTSTAMP:20260423T095101
CREATED:20260325T194624Z
LAST-MODIFIED:20260325T200239Z
UID:540-1793818800-1793822400@mayflowerbaptist.com
SUMMARY:Prayer Service
DESCRIPTION:On this evening every week\, we gather together and come before the throne of grace in the name of Jesus Christ\, the Son of God\, who makes perfect intercession for us in our prayers to God the Father. We trust the promise of God’s help through the Holy Spirit who helps us in our requests and offerings of praise and thanksgiving. \nWe want to pray for you. If you have a need you would like us to pray for\, feel free to join us at our weekly prayer service or reach out to us on social media with your request. \n\n“Rejoice always\, pray continually\, give thanks in all circumstances; for this is God’s will for you in Christ Jesus.”–1 Thessalonians 5:16-18
URL:https://mayflowerbaptist.com/event/prayer-service-11-4-26/
LOCATION:Mayflower Hills Baptist Church\, 3852 Rutrough Road SE\, Roanoke\, VA\, 24014\, United States
CATEGORIES:Prayer Service
ATTACH;FMTTYPE=image/jpeg:https://mayflowerbaptist.com/wp-content/uploads/2026/03/prayer-meeting.jpg
END:VEVENT
BEGIN:VEVENT
DTSTART;TZID=America/New_York:20261111T190000
DTEND;TZID=America/New_York:20261111T200000
DTSTAMP:20260423T095101
CREATED:20260325T194626Z
LAST-MODIFIED:20260325T200240Z
UID:541-1794423600-1794427200@mayflowerbaptist.com
SUMMARY:Prayer Service
DESCRIPTION:On this evening every week\, we gather together and come before the throne of grace in the name of Jesus Christ\, the Son of God\, who makes perfect intercession for us in our prayers to God the Father. We trust the promise of God’s help through the Holy Spirit who helps us in our requests and offerings of praise and thanksgiving. \nWe want to pray for you. If you have a need you would like us to pray for\, feel free to join us at our weekly prayer service or reach out to us on social media with your request. \n\n“Rejoice always\, pray continually\, give thanks in all circumstances; for this is God’s will for you in Christ Jesus.”–1 Thessalonians 5:16-18
URL:https://mayflowerbaptist.com/event/prayer-service-11-11-26/
LOCATION:Mayflower Hills Baptist Church\, 3852 Rutrough Road SE\, Roanoke\, VA\, 24014\, United States
CATEGORIES:Prayer Service
ATTACH;FMTTYPE=image/jpeg:https://mayflowerbaptist.com/wp-content/uploads/2026/03/prayer-meeting.jpg
END:VEVENT
BEGIN:VEVENT
DTSTART;TZID=America/New_York:20261118T190000
DTEND;TZID=America/New_York:20261118T200000
DTSTAMP:20260423T095101
CREATED:20260325T194627Z
LAST-MODIFIED:20260325T200241Z
UID:542-1795028400-1795032000@mayflowerbaptist.com
SUMMARY:Prayer Service
DESCRIPTION:On this evening every week\, we gather together and come before the throne of grace in the name of Jesus Christ\, the Son of God\, who makes perfect intercession for us in our prayers to God the Father. We trust the promise of God’s help through the Holy Spirit who helps us in our requests and offerings of praise and thanksgiving. \nWe want to pray for you. If you have a need you would like us to pray for\, feel free to join us at our weekly prayer service or reach out to us on social media with your request. \n\n“Rejoice always\, pray continually\, give thanks in all circumstances; for this is God’s will for you in Christ Jesus.”–1 Thessalonians 5:16-18
URL:https://mayflowerbaptist.com/event/prayer-service-11-18-26/
LOCATION:Mayflower Hills Baptist Church\, 3852 Rutrough Road SE\, Roanoke\, VA\, 24014\, United States
CATEGORIES:Prayer Service
ATTACH;FMTTYPE=image/jpeg:https://mayflowerbaptist.com/wp-content/uploads/2026/03/prayer-meeting.jpg
END:VEVENT
BEGIN:VEVENT
DTSTART;TZID=America/New_York:20261125T190000
DTEND;TZID=America/New_York:20261125T200000
DTSTAMP:20260423T095101
CREATED:20260325T194629Z
LAST-MODIFIED:20260325T200242Z
UID:543-1795633200-1795636800@mayflowerbaptist.com
SUMMARY:Prayer Service
DESCRIPTION:On this evening every week\, we gather together and come before the throne of grace in the name of Jesus Christ\, the Son of God\, who makes perfect intercession for us in our prayers to God the Father. We trust the promise of God’s help through the Holy Spirit who helps us in our requests and offerings of praise and thanksgiving. \nWe want to pray for you. If you have a need you would like us to pray for\, feel free to join us at our weekly prayer service or reach out to us on social media with your request. \n\n“Rejoice always\, pray continually\, give thanks in all circumstances; for this is God’s will for you in Christ Jesus.”–1 Thessalonians 5:16-18
URL:https://mayflowerbaptist.com/event/prayer-service-11-25-26/
LOCATION:Mayflower Hills Baptist Church\, 3852 Rutrough Road SE\, Roanoke\, VA\, 24014\, United States
CATEGORIES:Prayer Service
ATTACH;FMTTYPE=image/jpeg:https://mayflowerbaptist.com/wp-content/uploads/2026/03/prayer-meeting.jpg
END:VEVENT
BEGIN:VEVENT
DTSTART;TZID=America/New_York:20261202T190000
DTEND;TZID=America/New_York:20261202T200000
DTSTAMP:20260423T095101
CREATED:20260325T194631Z
LAST-MODIFIED:20260325T200244Z
UID:544-1796238000-1796241600@mayflowerbaptist.com
SUMMARY:Prayer Service
DESCRIPTION:On this evening every week\, we gather together and come before the throne of grace in the name of Jesus Christ\, the Son of God\, who makes perfect intercession for us in our prayers to God the Father. We trust the promise of God’s help through the Holy Spirit who helps us in our requests and offerings of praise and thanksgiving. \nWe want to pray for you. If you have a need you would like us to pray for\, feel free to join us at our weekly prayer service or reach out to us on social media with your request. \n\n“Rejoice always\, pray continually\, give thanks in all circumstances; for this is God’s will for you in Christ Jesus.”–1 Thessalonians 5:16-18
URL:https://mayflowerbaptist.com/event/prayer-service-12-2-26/
LOCATION:Mayflower Hills Baptist Church\, 3852 Rutrough Road SE\, Roanoke\, VA\, 24014\, United States
CATEGORIES:Prayer Service
ATTACH;FMTTYPE=image/jpeg:https://mayflowerbaptist.com/wp-content/uploads/2026/03/prayer-meeting.jpg
END:VEVENT
BEGIN:VEVENT
DTSTART;TZID=America/New_York:20261209T190000
DTEND;TZID=America/New_York:20261209T200000
DTSTAMP:20260423T095101
CREATED:20260325T194632Z
LAST-MODIFIED:20260325T200245Z
UID:545-1796842800-1796846400@mayflowerbaptist.com
SUMMARY:Prayer Service
DESCRIPTION:On this evening every week\, we gather together and come before the throne of grace in the name of Jesus Christ\, the Son of God\, who makes perfect intercession for us in our prayers to God the Father. We trust the promise of God’s help through the Holy Spirit who helps us in our requests and offerings of praise and thanksgiving. \nWe want to pray for you. If you have a need you would like us to pray for\, feel free to join us at our weekly prayer service or reach out to us on social media with your request. \n\n“Rejoice always\, pray continually\, give thanks in all circumstances; for this is God’s will for you in Christ Jesus.”–1 Thessalonians 5:16-18
URL:https://mayflowerbaptist.com/event/prayer-service-12-9-26/
LOCATION:Mayflower Hills Baptist Church\, 3852 Rutrough Road SE\, Roanoke\, VA\, 24014\, United States
CATEGORIES:Prayer Service
ATTACH;FMTTYPE=image/jpeg:https://mayflowerbaptist.com/wp-content/uploads/2026/03/prayer-meeting.jpg
END:VEVENT
BEGIN:VEVENT
DTSTART;TZID=America/New_York:20261216T190000
DTEND;TZID=America/New_York:20261216T200000
DTSTAMP:20260423T095101
CREATED:20260325T194634Z
LAST-MODIFIED:20260325T200246Z
UID:546-1797447600-1797451200@mayflowerbaptist.com
SUMMARY:Prayer Service
DESCRIPTION:On this evening every week\, we gather together and come before the throne of grace in the name of Jesus Christ\, the Son of God\, who makes perfect intercession for us in our prayers to God the Father. We trust the promise of God’s help through the Holy Spirit who helps us in our requests and offerings of praise and thanksgiving. \nWe want to pray for you. If you have a need you would like us to pray for\, feel free to join us at our weekly prayer service or reach out to us on social media with your request. \n\n“Rejoice always\, pray continually\, give thanks in all circumstances; for this is God’s will for you in Christ Jesus.”–1 Thessalonians 5:16-18
URL:https://mayflowerbaptist.com/event/prayer-service-12-16-26/
LOCATION:Mayflower Hills Baptist Church\, 3852 Rutrough Road SE\, Roanoke\, VA\, 24014\, United States
CATEGORIES:Prayer Service
ATTACH;FMTTYPE=image/jpeg:https://mayflowerbaptist.com/wp-content/uploads/2026/03/prayer-meeting.jpg
END:VEVENT
BEGIN:VEVENT
DTSTART;TZID=America/New_York:20261223T190000
DTEND;TZID=America/New_York:20261223T200000
DTSTAMP:20260423T095101
CREATED:20260325T194636Z
LAST-MODIFIED:20260325T200247Z
UID:547-1798052400-1798056000@mayflowerbaptist.com
SUMMARY:Prayer Service
DESCRIPTION:On this evening every week\, we gather together and come before the throne of grace in the name of Jesus Christ\, the Son of God\, who makes perfect intercession for us in our prayers to God the Father. We trust the promise of God’s help through the Holy Spirit who helps us in our requests and offerings of praise and thanksgiving. \nWe want to pray for you. If you have a need you would like us to pray for\, feel free to join us at our weekly prayer service or reach out to us on social media with your request. \n\n“Rejoice always\, pray continually\, give thanks in all circumstances; for this is God’s will for you in Christ Jesus.”–1 Thessalonians 5:16-18
URL:https://mayflowerbaptist.com/event/prayer-service-12-23-26/
LOCATION:Mayflower Hills Baptist Church\, 3852 Rutrough Road SE\, Roanoke\, VA\, 24014\, United States
CATEGORIES:Prayer Service
ATTACH;FMTTYPE=image/jpeg:https://mayflowerbaptist.com/wp-content/uploads/2026/03/prayer-meeting.jpg
END:VEVENT
BEGIN:VEVENT
DTSTART;TZID=America/New_York:20261230T190000
DTEND;TZID=America/New_York:20261230T200000
DTSTAMP:20260423T095101
CREATED:20260325T194637Z
LAST-MODIFIED:20260325T200248Z
UID:548-1798657200-1798660800@mayflowerbaptist.com
SUMMARY:Prayer Service
DESCRIPTION:On this evening every week\, we gather together and come before the throne of grace in the name of Jesus Christ\, the Son of God\, who makes perfect intercession for us in our prayers to God the Father. We trust the promise of God’s help through the Holy Spirit who helps us in our requests and offerings of praise and thanksgiving. \nWe want to pray for you. If you have a need you would like us to pray for\, feel free to join us at our weekly prayer service or reach out to us on social media with your request. \n\n“Rejoice always\, pray continually\, give thanks in all circumstances; for this is God’s will for you in Christ Jesus.”–1 Thessalonians 5:16-18
URL:https://mayflowerbaptist.com/event/prayer-service-12-30-26/
LOCATION:Mayflower Hills Baptist Church\, 3852 Rutrough Road SE\, Roanoke\, VA\, 24014\, United States
CATEGORIES:Prayer Service
ATTACH;FMTTYPE=image/jpeg:https://mayflowerbaptist.com/wp-content/uploads/2026/03/prayer-meeting.jpg
END:VEVENT
END:VCALENDAR