BEGIN:VCALENDAR
VERSION:2.0
PRODID:-//Mayflower Hills Baptist Church - ECPv6.15.20//NONSGML v1.0//EN
CALSCALE:GREGORIAN
METHOD:PUBLISH
X-ORIGINAL-URL:https://mayflowerbaptist.com
X-WR-CALDESC:Events for Mayflower Hills Baptist Church
REFRESH-INTERVAL;VALUE=DURATION:PT1H
X-Robots-Tag:noindex
X-PUBLISHED-TTL:PT1H
BEGIN:VTIMEZONE
TZID:America/New_York
BEGIN:DAYLIGHT
TZOFFSETFROM:-0500
TZOFFSETTO:-0400
TZNAME:EDT
DTSTART:20250309T070000
END:DAYLIGHT
BEGIN:STANDARD
TZOFFSETFROM:-0400
TZOFFSETTO:-0500
TZNAME:EST
DTSTART:20251102T060000
END:STANDARD
BEGIN:DAYLIGHT
TZOFFSETFROM:-0500
TZOFFSETTO:-0400
TZNAME:EDT
DTSTART:20260308T070000
END:DAYLIGHT
BEGIN:STANDARD
TZOFFSETFROM:-0400
TZOFFSETTO:-0500
TZNAME:EST
DTSTART:20261101T060000
END:STANDARD
BEGIN:DAYLIGHT
TZOFFSETFROM:-0500
TZOFFSETTO:-0400
TZNAME:EDT
DTSTART:20270314T070000
END:DAYLIGHT
BEGIN:STANDARD
TZOFFSETFROM:-0400
TZOFFSETTO:-0500
TZNAME:EST
DTSTART:20271107T060000
END:STANDARD
END:VTIMEZONE
BEGIN:VEVENT
DTSTART;TZID=America/New_York:20260128T190000
DTEND;TZID=America/New_York:20260128T200000
DTSTAMP:20260423T150549
CREATED:20260119T051059Z
LAST-MODIFIED:20260125T024635Z
UID:130-1769626800-1769630400@mayflowerbaptist.com
SUMMARY:Prayer Service
DESCRIPTION:
URL:https://mayflowerbaptist.com/event/prayer-service-2-1-28-26/
LOCATION:Mayflower Hills Baptist Church\, 3852 Rutrough Road SE\, Roanoke\, VA\, 24014\, United States
CATEGORIES:Prayer Service
END:VEVENT
BEGIN:VEVENT
DTSTART;TZID=America/New_York:20260127T183000
DTEND;TZID=America/New_York:20260127T200000
DTSTAMP:20260423T150549
CREATED:20260125T030048Z
LAST-MODIFIED:20260125T030144Z
UID:221-1769538600-1769544000@mayflowerbaptist.com
SUMMARY:Midweek Bible Study
DESCRIPTION:
URL:https://mayflowerbaptist.com/event/midweek-bible-study-1-28-26-1-27-26/
LOCATION:Hall Household\, 1016 Starmount Ave\, Roanoke\, VA\, 24019\, United States
CATEGORIES:Bible Study
END:VEVENT
BEGIN:VEVENT
DTSTART;TZID=America/New_York:20260125T183000
DTEND;TZID=America/New_York:20260125T193000
DTSTAMP:20260423T150549
CREATED:20260118T222844Z
LAST-MODIFIED:20260124T222404Z
UID:100-1769365800-1769369400@mayflowerbaptist.com
SUMMARY:Sunday Evening Worship
DESCRIPTION:Sunday services on January 25th have been canceled due to the Winter Storm \nComplete the Lord’s Day with us as we gather again for a more informal time of Bible reading and personal study questions.
URL:https://mayflowerbaptist.com/event/sunday-evening-worship-1-25-26/
LOCATION:Mayflower Hills Baptist Church\, 3852 Rutrough Road SE\, Roanoke\, VA\, 24014\, United States
CATEGORIES:Worship Service
ATTACH;FMTTYPE=image/webp:https://mayflowerbaptist.com/wp-content/uploads/2026/01/sunday-evening-worship.webp
END:VEVENT
BEGIN:VEVENT
DTSTART;TZID=America/New_York:20260125T110000
DTEND;TZID=America/New_York:20260125T123000
DTSTAMP:20260423T150549
CREATED:20260118T215702Z
LAST-MODIFIED:20260124T222407Z
UID:92-1769338800-1769344200@mayflowerbaptist.com
SUMMARY:Sunday Morning Worship
DESCRIPTION:Sunday services on January 25th have been canceled due to the Winter Storm \nA time for God’s people to unite in joyful worship and prayer\, being equipped in the truth of Scripture through faithful\, verse-by-verse teaching.
URL:https://mayflowerbaptist.com/event/sunday-morning-worship-1-25-26/
LOCATION:Mayflower Hills Baptist Church\, 3852 Rutrough Road SE\, Roanoke\, VA\, 24014\, United States
CATEGORIES:Worship Service
ATTACH;FMTTYPE=image/webp:https://mayflowerbaptist.com/wp-content/uploads/2026/01/sunday-morning-worship-alt.webp
END:VEVENT
BEGIN:VEVENT
DTSTART;TZID=America/New_York:20260121T190000
DTEND;TZID=America/New_York:20260121T200000
DTSTAMP:20260423T150549
CREATED:20260118T224229Z
LAST-MODIFIED:20260119T052438Z
UID:110-1769022000-1769025600@mayflowerbaptist.com
SUMMARY:Prayer Service
DESCRIPTION:
URL:https://mayflowerbaptist.com/event/prayer-service-1-21-26/
LOCATION:Mayflower Hills Baptist Church\, 3852 Rutrough Road SE\, Roanoke\, VA\, 24014\, United States
CATEGORIES:Prayer Service
ATTACH;FMTTYPE=image/webp:https://mayflowerbaptist.com/wp-content/uploads/2026/01/prayer-meeting.webp
END:VEVENT
BEGIN:VEVENT
DTSTART;TZID=America/New_York:20260120T183000
DTEND;TZID=America/New_York:20260120T193000
DTSTAMP:20260423T150549
CREATED:20260118T223754Z
LAST-MODIFIED:20260119T052242Z
UID:106-1768933800-1768937400@mayflowerbaptist.com
SUMMARY:Midweek Bible Study
DESCRIPTION:A relaxed time of fellowship and study\, where we review our weekly Bible reading plan and talk through questions\, applications\, and encouragement from the text.
URL:https://mayflowerbaptist.com/event/mid-week-bible-study-1-20-26/
LOCATION:Hall Household\, 1016 Starmount Ave\, Roanoke\, VA\, 24019\, United States
CATEGORIES:Bible Study
ATTACH;FMTTYPE=image/webp:https://mayflowerbaptist.com/wp-content/uploads/2026/01/bible-study.webp
END:VEVENT
BEGIN:VEVENT
DTSTART;TZID=America/New_York:20260118T183000
DTEND;TZID=America/New_York:20260118T193000
DTSTAMP:20260423T150549
CREATED:20260118T223130Z
LAST-MODIFIED:20260125T024733Z
UID:104-1768761000-1768764600@mayflowerbaptist.com
SUMMARY:Sunday Evening Worship
DESCRIPTION:
URL:https://mayflowerbaptist.com/event/sunday-evening-worship-1-18-26/
LOCATION:Mayflower Hills Baptist Church\, 3852 Rutrough Road SE\, Roanoke\, VA\, 24014\, United States
CATEGORIES:Worship Service
ATTACH;FMTTYPE=image/webp:https://mayflowerbaptist.com/wp-content/uploads/2026/01/sunday-evening-worship.webp
END:VEVENT
BEGIN:VEVENT
DTSTART;TZID=America/New_York:20260118T110000
DTEND;TZID=America/New_York:20260118T120000
DTSTAMP:20260423T150549
CREATED:20260119T051044Z
LAST-MODIFIED:20260418T191221Z
UID:125-1768734000-1768737600@mayflowerbaptist.com
SUMMARY:Sunday Morning Worship
DESCRIPTION:A time for God’s people to unite in joyful worship and prayer\, being equipped in the truth of Scripture through faithful\, verse-by-verse teaching.
URL:https://mayflowerbaptist.com/event/sunday-morning-worship-1-18-26/
LOCATION:Mayflower Hills Baptist Church\, 3852 Rutrough Road SE\, Roanoke\, VA\, 24014\, United States
CATEGORIES:Worship Service
END:VEVENT
BEGIN:VEVENT
DTSTART;TZID=America/New_York:20260117T100000
DTEND;TZID=America/New_York:20260117T123000
DTSTAMP:20260423T150549
CREATED:20260119T051042Z
LAST-MODIFIED:20260125T024652Z
UID:124-1768644000-1768653000@mayflowerbaptist.com
SUMMARY:Ladies Brunch
DESCRIPTION:
URL:https://mayflowerbaptist.com/event/ladies-brunch-1-17-26/
LOCATION:Mayflower Hills Baptist Church\, 3852 Rutrough Road SE\, Roanoke\, VA\, 24014\, United States
CATEGORIES:Fellowship
END:VEVENT
BEGIN:VEVENT
DTSTART;TZID=America/New_York:20260114T190000
DTEND;TZID=America/New_York:20260114T200000
DTSTAMP:20260423T150549
CREATED:20260119T051041Z
LAST-MODIFIED:20260125T024700Z
UID:123-1768417200-1768420800@mayflowerbaptist.com
SUMMARY:Prayer Service
DESCRIPTION:
URL:https://mayflowerbaptist.com/event/prayer-service-1-14-26/
LOCATION:Mayflower Hills Baptist Church\, 3852 Rutrough Road SE\, Roanoke\, VA\, 24014\, United States
CATEGORIES:Prayer Service
END:VEVENT
BEGIN:VEVENT
DTSTART;TZID=America/New_York:20260113T183000
DTEND;TZID=America/New_York:20260113T200000
DTSTAMP:20260423T150549
CREATED:20260119T051041Z
LAST-MODIFIED:20260125T024708Z
UID:122-1768329000-1768334400@mayflowerbaptist.com
SUMMARY:Midweek Bible Study
DESCRIPTION:
URL:https://mayflowerbaptist.com/event/midweek-bible-study-1-13-26/
LOCATION:Hall Household\, 1016 Starmount Ave\, Roanoke\, VA\, 24019\, United States
CATEGORIES:Bible Study
END:VEVENT
BEGIN:VEVENT
DTSTART;TZID=America/New_York:20260111T183000
DTEND;TZID=America/New_York:20260111T193000
DTSTAMP:20260423T150549
CREATED:20260119T051041Z
LAST-MODIFIED:20260125T024716Z
UID:121-1768156200-1768159800@mayflowerbaptist.com
SUMMARY:Sunday Evening Worship
DESCRIPTION:
URL:https://mayflowerbaptist.com/event/sunday-evening-worship-1-11-26/
LOCATION:Mayflower Hills Baptist Church\, 3852 Rutrough Road SE\, Roanoke\, VA\, 24014\, United States
CATEGORIES:Worship Service
END:VEVENT
BEGIN:VEVENT
DTSTART;TZID=America/New_York:20260111T110000
DTEND;TZID=America/New_York:20260111T120000
DTSTAMP:20260423T150549
CREATED:20260119T051040Z
LAST-MODIFIED:20260418T191220Z
UID:120-1768129200-1768132800@mayflowerbaptist.com
SUMMARY:Sunday Morning Worship
DESCRIPTION:A time for God’s people to unite in joyful worship and prayer\, being equipped in the truth of Scripture through faithful\, verse-by-verse teaching.
URL:https://mayflowerbaptist.com/event/sunday-morning-worship-1-11-26/
LOCATION:Mayflower Hills Baptist Church\, 3852 Rutrough Road SE\, Roanoke\, VA\, 24014\, United States
CATEGORIES:Worship Service
END:VEVENT
END:VCALENDAR